BEGIN:VCALENDAR
VERSION:2.0
PRODID:-//Country Gardener - ECPv5.1.3//NONSGML v1.0//EN
CALSCALE:GREGORIAN
METHOD:PUBLISH
X-WR-CALNAME:Country Gardener
X-ORIGINAL-URL:https://countrygardener.co.uk
X-WR-CALDESC:Events for Country Gardener
BEGIN:VTIMEZONE
TZID:UTC
BEGIN:STANDARD
TZOFFSETFROM:+0000
TZOFFSETTO:+0000
TZNAME:UTC
DTSTART:20260101T000000
END:STANDARD
END:VTIMEZONE
BEGIN:VEVENT
DTSTART;TZID=UTC:20261130T190000
DTEND;TZID=UTC:20261130T210000
DTSTAMP:20260423T102902
CREATED:20260106T143632Z
LAST-MODIFIED:20260106T143633Z
UID:4597-1796065200-1796072400@countrygardener.co.uk
SUMMARY:Christmas cookery demonstration with home-grown produce by Nancy Lawson
DESCRIPTION:\n\n\nFounder of the charity Pick\, Cook and Eat\, Nancy will use home-grown produce to create fabulous Christmas dishes and talk about her home\, Overtown Manor and the charity that she runs there. £2 entry. \n\n\n\n\n\n\n\n\n\n\n
URL:https://countrygardener.co.uk/event/christmas-cookery-demonstration-with-home-grown-produce-by-nancy-lawson/
LOCATION:Ellendune Community Centre\, Wroughton\, Swindon\, SN4 9NT
ORGANIZER;CN="Wroughton%20and%20District%20Gardeners%20Society":MAILTO:secretarywdgs@outlook.com
END:VEVENT
END:VCALENDAR