BEGIN:VCALENDAR
VERSION:2.0
PRODID:-//Country Gardener - ECPv5.1.3//NONSGML v1.0//EN
CALSCALE:GREGORIAN
METHOD:PUBLISH
X-WR-CALNAME:Country Gardener
X-ORIGINAL-URL:https://countrygardener.co.uk
X-WR-CALDESC:Events for Country Gardener
BEGIN:VTIMEZONE
TZID:UTC
BEGIN:STANDARD
TZOFFSETFROM:+0000
TZOFFSETTO:+0000
TZNAME:UTC
DTSTART:20260101T000000
END:STANDARD
END:VTIMEZONE
BEGIN:VEVENT
DTSTART;TZID=UTC:20261125T193000
DTEND;TZID=UTC:20261125T203000
DTSTAMP:20260421T104100
CREATED:20260122T144255Z
LAST-MODIFIED:20260122T144256Z
UID:4741-1795635000-1795638600@countrygardener.co.uk
SUMMARY:Demonstration: Willow plant support
DESCRIPTION:\n\n\nA willow plant support plus make your own willow star for Christmas. Richard Kerwood of Windrush Willow shows us how. Willow products for sale – individual and stylish gifts. \n\n\n\n\n\n\n\n\n\n\n
URL:https://countrygardener.co.uk/event/demonstration-willow-plant-support/
LOCATION:Uplyme Village Hall\, Lyme Road\, Uplyme\, DT7 3UY
ORGANIZER;CN="Uplyme%20%26%23038%3B%20Lyme%20Regis%20Horticultural%20Society":MAILTO:tricia@thegardenersblacksmith.co.uk
END:VEVENT
END:VCALENDAR