BEGIN:VCALENDAR
VERSION:2.0
PRODID:-//Country Gardener - ECPv5.1.3//NONSGML v1.0//EN
CALSCALE:GREGORIAN
METHOD:PUBLISH
X-WR-CALNAME:Country Gardener
X-ORIGINAL-URL:https://countrygardener.co.uk
X-WR-CALDESC:Events for Country Gardener
BEGIN:VTIMEZONE
TZID:UTC
BEGIN:STANDARD
TZOFFSETFROM:+0000
TZOFFSETTO:+0000
TZNAME:UTC
DTSTART:20250101T000000
END:STANDARD
END:VTIMEZONE
BEGIN:VEVENT
DTSTART;TZID=UTC:20250510T100000
DTEND;TZID=UTC:20250510T100000
DTSTAMP:20260424T033207
CREATED:20250428T135923Z
LAST-MODIFIED:20250428T135923Z
UID:3527-1746871200-1746871200@countrygardener.co.uk
SUMMARY: West Moors Horticultural Society 
DESCRIPTION:\n\n\n PLANT SALE  \n\n\n\n\n\n\n\n\n\n\n
URL:https://countrygardener.co.uk/event/west-moors-horticultural-society/
LOCATION:Memorial Hall\, Station Road\, Ferndown\, BH22 0HZ
ORGANIZER;CN="West%20Moors%20Horticultural%20Society":MAILTO:wmhorticultural.society@gmail.com
END:VEVENT
END:VCALENDAR