BEGIN:VCALENDAR
VERSION:2.0
PRODID:-//Country Gardener - ECPv5.1.3//NONSGML v1.0//EN
CALSCALE:GREGORIAN
METHOD:PUBLISH
X-WR-CALNAME:Country Gardener
X-ORIGINAL-URL:https://countrygardener.co.uk
X-WR-CALDESC:Events for Country Gardener
BEGIN:VTIMEZONE
TZID:UTC
BEGIN:STANDARD
TZOFFSETFROM:+0000
TZOFFSETTO:+0000
TZNAME:UTC
DTSTART:20250101T000000
END:STANDARD
END:VTIMEZONE
BEGIN:VEVENT
DTSTART;TZID=UTC:20250521T190000
DTEND;TZID=UTC:20250521T190000
DTSTAMP:20260424T102139
CREATED:20250428T154838Z
LAST-MODIFIED:20250428T154839Z
UID:3623-1747854000-1747854000@countrygardener.co.uk
SUMMARY: Torquay and District Gardening Club 
DESCRIPTION:\n\n\n ‘GLORIOUS ROSES’ – ELIZABETH HOLMAN  \n\n\n\n\n\n\n\n\n\n\n
URL:https://countrygardener.co.uk/event/torquay-and-district-gardening-club/
LOCATION:St Mags Church Hall\, Union Street\, Torquay\, TQ1 4BX
ORGANIZER;CN="Torquay%20and%20District%20Gardening%20Club":MAILTO:nickibaker222@gmail.com
END:VEVENT
END:VCALENDAR