BEGIN:VCALENDAR
VERSION:2.0
PRODID:-//Country Gardener - ECPv5.1.3//NONSGML v1.0//EN
CALSCALE:GREGORIAN
METHOD:PUBLISH
X-WR-CALNAME:Country Gardener
X-ORIGINAL-URL:https://countrygardener.co.uk
X-WR-CALDESC:Events for Country Gardener
BEGIN:VTIMEZONE
TZID:UTC
BEGIN:STANDARD
TZOFFSETFROM:+0000
TZOFFSETTO:+0000
TZNAME:UTC
DTSTART:20250101T000000
END:STANDARD
END:VTIMEZONE
BEGIN:VEVENT
DTSTART;TZID=UTC:20250513T193000
DTEND;TZID=UTC:20250513T193000
DTSTAMP:20260424T051847
CREATED:20250428T140345Z
LAST-MODIFIED:20250428T140346Z
UID:3535-1747164600-1747164600@countrygardener.co.uk
SUMMARY: The West Malvern Garden and Nature Club 
DESCRIPTION:\n\n\n ‘THE JAGUAR KINGDOM’ – JOHN MEDLOCK  \n\n\n\n\n\n\n\n\n\n\n\n\n\n \n
URL:https://countrygardener.co.uk/event/the-west-malvern-garden-and-nature-club/
LOCATION:Regents Theological College\, West Malvern Road\, West Malvern\, WR14 4DF
ORGANIZER;CN="The%20West%20Malvern%20Garden%20and%20Nature%20Club":MAILTO:matthews.greenbank@icloud.com
END:VEVENT
END:VCALENDAR