BEGIN:VCALENDAR
VERSION:2.0
PRODID:-//Country Gardener - ECPv5.1.3//NONSGML v1.0//EN
CALSCALE:GREGORIAN
METHOD:PUBLISH
X-WR-CALNAME:Country Gardener
X-ORIGINAL-URL:https://countrygardener.co.uk
X-WR-CALDESC:Events for Country Gardener
BEGIN:VTIMEZONE
TZID:UTC
BEGIN:STANDARD
TZOFFSETFROM:+0000
TZOFFSETTO:+0000
TZNAME:UTC
DTSTART:20250101T000000
END:STANDARD
END:VTIMEZONE
BEGIN:VEVENT
DTSTART;TZID=UTC:20250511T143000
DTEND;TZID=UTC:20250511T170000
DTSTAMP:20260424T034018
CREATED:20250429T110545Z
LAST-MODIFIED:20250429T110545Z
UID:3765-1746973800-1746982800@countrygardener.co.uk
SUMMARY:South West Orchid Society\, Taunton 
DESCRIPTION:\n\n\n MONTHLY MEETING  \n\n\n\nA Practical introduction to Vanda falcata – Gourd & Horse (Aki & Ben) \n\n\n\n\n\n\n\n\n\n\n
URL:https://countrygardener.co.uk/event/south-west-orchid-society-taunton/
LOCATION:West Monkton Village Hall\, Monkton Heathfield\, TA2 8NE
ORGANIZER;CN="South%20West%20Orchid%20Society%2C%20Taunton%C2%A0":MAILTO:swos.secretary@gmail.com
END:VEVENT
END:VCALENDAR