BEGIN:VCALENDAR
VERSION:2.0
PRODID:-//Country Gardener - ECPv5.1.3//NONSGML v1.0//EN
CALSCALE:GREGORIAN
METHOD:PUBLISH
X-WR-CALNAME:Country Gardener
X-ORIGINAL-URL:https://countrygardener.co.uk
X-WR-CALDESC:Events for Country Gardener
BEGIN:VTIMEZONE
TZID:UTC
BEGIN:STANDARD
TZOFFSETFROM:+0000
TZOFFSETTO:+0000
TZNAME:UTC
DTSTART:20250101T000000
END:STANDARD
END:VTIMEZONE
BEGIN:VEVENT
DTSTART;TZID=UTC:20250513T193000
DTEND;TZID=UTC:20250513T193000
DTSTAMP:20260424T051514
CREATED:20250428T140028Z
LAST-MODIFIED:20250428T140028Z
UID:3533-1747164600-1747164600@countrygardener.co.uk
SUMMARY: Slimbridge Gardening Club 
DESCRIPTION:\n\n\n\n\n ‘THE HONEY BEE AND BEEKEEPING’ – BRIAN MILLER-HALL  \n\n\n\n\n\n\n\n\n
URL:https://countrygardener.co.uk/event/slimbridge-gardening-club-2/
LOCATION:Slimbridge Village Hall\, 33 St John's Rd\, Slimbridge\, GL2 7BJ
ORGANIZER;CN="Slimbridge%20Gardening%20Club":MAILTO:events@slimbridgegc.plus.com
END:VEVENT
END:VCALENDAR