BEGIN:VCALENDAR
VERSION:2.0
PRODID:-//Country Gardener - ECPv5.1.3//NONSGML v1.0//EN
CALSCALE:GREGORIAN
METHOD:PUBLISH
X-WR-CALNAME:Country Gardener
X-ORIGINAL-URL:https://countrygardener.co.uk
X-WR-CALDESC:Events for Country Gardener
BEGIN:VTIMEZONE
TZID:UTC
BEGIN:STANDARD
TZOFFSETFROM:+0000
TZOFFSETTO:+0000
TZNAME:UTC
DTSTART:20250101T000000
END:STANDARD
END:VTIMEZONE
BEGIN:VEVENT
DTSTART;TZID=UTC:20250520T190000
DTEND;TZID=UTC:20250520T190000
DTSTAMP:20260424T051427
CREATED:20250428T165437Z
LAST-MODIFIED:20250428T165438Z
UID:3687-1747767600-1747767600@countrygardener.co.uk
SUMMARY:Parkstone Gardening Society 
DESCRIPTION:\n\n\n ‘BASIC VEGETABLE GARDENING’ – PAUL BRETT  \n\n\n\n\n\n\n\n\n\n\n
URL:https://countrygardener.co.uk/event/parkstone-gardening-society/
LOCATION:St. Aldhelms Centre\, Branksome\, Poole\, BH12 1DF
END:VEVENT
END:VCALENDAR