BEGIN:VCALENDAR
VERSION:2.0
PRODID:-//Country Gardener - ECPv5.1.3//NONSGML v1.0//EN
CALSCALE:GREGORIAN
METHOD:PUBLISH
X-WR-CALNAME:Country Gardener
X-ORIGINAL-URL:https://countrygardener.co.uk
X-WR-CALDESC:Events for Country Gardener
BEGIN:VTIMEZONE
TZID:UTC
BEGIN:STANDARD
TZOFFSETFROM:+0000
TZOFFSETTO:+0000
TZNAME:UTC
DTSTART:20250101T000000
END:STANDARD
END:VTIMEZONE
BEGIN:VEVENT
DTSTART;TZID=UTC:20250512T193000
DTEND;TZID=UTC:20250512T193000
DTSTAMP:20260424T044217
CREATED:20250429T110833Z
LAST-MODIFIED:20250429T110840Z
UID:3771-1747078200-1747078200@countrygardener.co.uk
SUMMARY:Nynehead Garden Club 
DESCRIPTION:\n\n\nDr Burroughs: “The History of Front Gardens” \n\n\n\n\n\n\n\n\n\n\n
URL:https://countrygardener.co.uk/event/nynehead-garden-club/
LOCATION:Nynehead Memorial Hall\, Nynehead\, Wellington\, TA21 0BH
END:VEVENT
END:VCALENDAR