BEGIN:VCALENDAR
VERSION:2.0
PRODID:-//Country Gardener - ECPv5.1.3//NONSGML v1.0//EN
CALSCALE:GREGORIAN
METHOD:PUBLISH
X-WR-CALNAME:Country Gardener
X-ORIGINAL-URL:https://countrygardener.co.uk
X-WR-CALDESC:Events for Country Gardener
BEGIN:VTIMEZONE
TZID:UTC
BEGIN:STANDARD
TZOFFSETFROM:+0000
TZOFFSETTO:+0000
TZNAME:UTC
DTSTART:20260101T000000
END:STANDARD
END:VTIMEZONE
BEGIN:VEVENT
DTSTART;TZID=UTC:20260512T193000
DTEND;TZID=UTC:20260512T213000
DTSTAMP:20260422T184004
CREATED:20260422T110608Z
LAST-MODIFIED:20260422T110609Z
UID:5220-1778614200-1778621400@countrygardener.co.uk
SUMMARY:Natasha Purdy - How to Make the Best of your Spring Produce
DESCRIPTION:\n\n\nSlimbridge Gardening Club presents Natasha Purdy – How to Make the Best of your Spring Produce. \n\n\n\n\n\n\n\n\n\n\n
URL:https://countrygardener.co.uk/event/natasha-purdy-how-to-make-the-best-of-your-spring-produce/
LOCATION:Slimbridge Village Hall\, 33 St John's Rd\, Slimbridge\, GL2 7BJ
CATEGORIES:Garden Club Talks
ORGANIZER;CN="Slimbridge%20Gardening%20Club":MAILTO:events@slimbridgegc.plus.com
END:VEVENT
END:VCALENDAR