BEGIN:VCALENDAR
VERSION:2.0
PRODID:-//Country Gardener - ECPv5.1.3//NONSGML v1.0//EN
CALSCALE:GREGORIAN
METHOD:PUBLISH
X-WR-CALNAME:Country Gardener
X-ORIGINAL-URL:https://countrygardener.co.uk
X-WR-CALDESC:Events for Country Gardener
BEGIN:VTIMEZONE
TZID:UTC
BEGIN:STANDARD
TZOFFSETFROM:+0000
TZOFFSETTO:+0000
TZNAME:UTC
DTSTART:20250101T000000
END:STANDARD
END:VTIMEZONE
BEGIN:VEVENT
DTSTART;TZID=UTC:20250524T140000
DTEND;TZID=UTC:20250524T160000
DTSTAMP:20260424T033529
CREATED:20250428T170122Z
LAST-MODIFIED:20250428T170123Z
UID:3704-1748095200-1748102400@countrygardener.co.uk
SUMMARY:Beaulieu and District Gardening Club 
DESCRIPTION:\n\n\nPlant Sale \n\n\n\n\n\n\n\n\n\n\n
URL:https://countrygardener.co.uk/event/beaulieu-and-district-gardening-club/
LOCATION:School Fields Hall\, East Boldre
ORGANIZER;CN="Beaulieu%20and%20District%20Gardening%20Club":MAILTO:lapkerr@gmail.com
END:VEVENT
END:VCALENDAR